BEGIN:VCALENDAR
VERSION:2.0
PRODID:-//Chambre des salariés - CSL - ECPv6.15.17.1//NONSGML v1.0//EN
CALSCALE:GREGORIAN
METHOD:PUBLISH
X-WR-CALNAME:Chambre des salariés - CSL
X-ORIGINAL-URL:https://www.csl.lu/de/
X-WR-CALDESC:Veranstaltungen für Chambre des salariés - CSL
REFRESH-INTERVAL;VALUE=DURATION:PT1H
X-Robots-Tag:noindex
X-PUBLISHED-TTL:PT1H
BEGIN:VTIMEZONE
TZID:Europe/Paris
BEGIN:DAYLIGHT
TZOFFSETFROM:+0100
TZOFFSETTO:+0200
TZNAME:CEST
DTSTART:20250330T010000
END:DAYLIGHT
BEGIN:STANDARD
TZOFFSETFROM:+0200
TZOFFSETTO:+0100
TZNAME:CET
DTSTART:20251026T010000
END:STANDARD
BEGIN:DAYLIGHT
TZOFFSETFROM:+0100
TZOFFSETTO:+0200
TZNAME:CEST
DTSTART:20260329T010000
END:DAYLIGHT
BEGIN:STANDARD
TZOFFSETFROM:+0200
TZOFFSETTO:+0100
TZNAME:CET
DTSTART:20261025T010000
END:STANDARD
BEGIN:DAYLIGHT
TZOFFSETFROM:+0100
TZOFFSETTO:+0200
TZNAME:CEST
DTSTART:20270328T010000
END:DAYLIGHT
BEGIN:STANDARD
TZOFFSETFROM:+0200
TZOFFSETTO:+0100
TZNAME:CET
DTSTART:20271031T010000
END:STANDARD
END:VTIMEZONE
BEGIN:VEVENT
DTSTART;TZID=Europe/Paris:20260325T183000
DTEND;TZID=Europe/Paris:20260325T200000
DTSTAMP:20260421T201339
CREATED:20260305T075037Z
LAST-MODIFIED:20260309T100145Z
UID:122952-1774463400-1774468800@www.csl.lu
SUMMARY:KAPITAL\, MACHT & GESELLSCHAFT - Spinozas Vermächtnis
DESCRIPTION:Die Arbeitnehmerkammer lädt Sie herzlich ein zur Konferenz \nKAPITAL\, MACHT & GESELLSCHAFT – Spinozas Vermächtnis\nDatum: Mittwoch\, 25 März 2026 um 18h30 \nOrt: Chambre des salariés\, 2-4 rue Pierre Hentges\, L-1726 Luxembourg \n  \nmit Daniel Poos\, Facharzt für Radiologie und Nuklearmedizin \n  \nDie Veranstaltung ist der Vorstellung des Buches Kapital\, Macht & Gesellschaft gewidmet\, das vor Ort präsentiert wird und erworben werden kann. \nWohin gehen wir in unserer Welt\, die uns immer fremder wird? \nTechnobonzen des Silicon Valley\, Waffen-\, Öl- und Pestizidlobby leiten Wirtschaft und Politik. \nFinanzkapitalismus und digitaler Kapitalismus extrahieren riesige Geldmengen aus dem realen wirtschaftlichen Kreislauf\, bunkern sie in rechtsfreien virtuellen Räumen\, wo sie der Gemeinschaft nicht mehr zur Verfügung stehen. \nMarktstrategien finanzkräftiger Plattformen (Amazon\, Google\, Facebook\, etc.) haben unser individuelles und soziales Gedächtnis infiltriert\, beschränken unser Denken auf Profit\, Konsum und Wachstum und sind mit dem Geldmedium zum leitenden Machtfaktor in unserer Gesellschaft geworden. \nNatur\, Demokratie und Sozialstaat sind dabei die Leidtragenden. Über diese brisante Thematik handeln dieses Buch und der dazu angegliederte Vortrag. Aber die Proteststimmen mehren sich\, nicht nur die geschundene Natur schreit\, sondern auch unser soziales kollektives Gewissen! Der während Jahrhunderten hart erkämpfte Rechts- und Sozialstaat lässt sich nicht bis zum Äußersten in die Knie zwingen. \nAuch darüber handeln Buch und Vortrag\, sowie über die psychologischen Beweggründe unserer Begehren nach Besitz und Macht. Natur und Gesellschaft sind an einem Kipppunkt angelangt. \nWir können das Blatt wenden\, denn gemeinsam sind wir stärker an Zahl und Willen als alle Geldmengen und Profitinteressen der oberen Zehntausend! \nWeitere Informationen \n\nDie Konferenzsprache ist Deutsch.
URL:https://www.csl.lu/de/calendar-event/kapital-macht-gesellschaft-spinozas-vermaechtnis/
LOCATION:Chambre des salariés / LLLC\, 2-4\, rue Pierre Hentges | L-1726 Luxembourg\, Luxembourg
END:VEVENT
END:VCALENDAR