BEGIN:VCALENDAR
VERSION:2.0
PRODID:-//Chambre des salariés - CSL - ECPv6.15.17.1//NONSGML v1.0//EN
CALSCALE:GREGORIAN
METHOD:PUBLISH
X-WR-CALNAME:Chambre des salariés - CSL
X-ORIGINAL-URL:https://www.csl.lu/de/
X-WR-CALDESC:Veranstaltungen für Chambre des salariés - CSL
REFRESH-INTERVAL;VALUE=DURATION:PT1H
X-Robots-Tag:noindex
X-PUBLISHED-TTL:PT1H
BEGIN:VTIMEZONE
TZID:Europe/Paris
BEGIN:DAYLIGHT
TZOFFSETFROM:+0100
TZOFFSETTO:+0200
TZNAME:CEST
DTSTART:20220327T010000
END:DAYLIGHT
BEGIN:STANDARD
TZOFFSETFROM:+0200
TZOFFSETTO:+0100
TZNAME:CET
DTSTART:20221030T010000
END:STANDARD
BEGIN:DAYLIGHT
TZOFFSETFROM:+0100
TZOFFSETTO:+0200
TZNAME:CEST
DTSTART:20230326T010000
END:DAYLIGHT
BEGIN:STANDARD
TZOFFSETFROM:+0200
TZOFFSETTO:+0100
TZNAME:CET
DTSTART:20231029T010000
END:STANDARD
BEGIN:DAYLIGHT
TZOFFSETFROM:+0100
TZOFFSETTO:+0200
TZNAME:CEST
DTSTART:20240331T010000
END:DAYLIGHT
BEGIN:STANDARD
TZOFFSETFROM:+0200
TZOFFSETTO:+0100
TZNAME:CET
DTSTART:20241027T010000
END:STANDARD
END:VTIMEZONE
BEGIN:VEVENT
DTSTART;TZID=Europe/Paris:20231018T183000
DTEND;TZID=Europe/Paris:20231018T200000
DTSTAMP:20260422T040008
CREATED:20230921T133828Z
LAST-MODIFIED:20230925T093430Z
UID:83196-1697653800-1697659200@www.csl.lu
SUMMARY:Konferenz : Lebenslange Beratung – Theorie und Praxis in der Bildungs- und Berufsberatung
DESCRIPTION:Lebenslange Beratung – Theorie und Praxis in der Bildungs- und Berufsberatung\nDatum : Mittwoch\, 18. Oktober 2023 um 18h30 \nOrt : Chambre des salariés\, 2-4 rue Pierre Hentges\, L-1726 Luxemburg \n  \nmit Prof. Dr. Peter C. Weber\, der Erziehungswissenschaft mit den Schwerpunkten Erwachsenenbildung\, Soziologie und Wirtschaftswissenschaft an den Universitäten Bremen und Leiden studierte. \n  \nThema der Konferenz: \nBerufliche Beratung ist seit über einhundert Jahren ein Instrument\, das Menschen bei der individuellen Entscheidung für einen Bildungs- und Berufsweg Unterstützung bietet. Gleichwohl müssen sich die Formen und die Inhalte der Beratung anpassen und immer wieder neu ausrichten. \nIm Vortrag wird sowohl auf die Konstanten der Beratungsarbeit als auch auf Veränderungsbedarfe eingegangen. \nAngeregt wird die konzeptionelle und praktische Gestaltung von Orientierungs- und Beratungsangeboten um sich näher an den aktuellen Bedarfslagen von jungen Menschen auszurichten. \nDies beinhaltet sowohl einen Blick auf die Varianz der Herausforderungen im Bildungs- und Berufssystem\, als auch die Entwicklung von neuen Formen der Beratungsarbeit\, die junge Menschen ernst nimmt\, zu Wort kommen lässt und deren Kompetenzen für die Gestaltung der beruflichen Biografie – entlang des eigenen Lebenslaufs – fördert. \nZur Umsetzung einer solchen Strategie sind sowohl Theoretiker und Forscher\, Beraterinnen und Berater und die Politiker gefordert\, die nötigen Rahmenbedingungen zu gestalten. \nMehr lesen \n  \nDie Konferenzsprache ist Deutsch.
URL:https://www.csl.lu/de/calendar-event/konferenz-lebenslange-beratung-theorie-und-praxis-in-der-bildungs-und-berufsberatung/
LOCATION:Chambre des salariés / LLLC\, 2-4\, rue Pierre Hentges | L-1726 Luxembourg\, Luxembourg
END:VEVENT
END:VCALENDAR