BEGIN:VCALENDAR
VERSION:2.0
PRODID:-//Chambre des salariés - CSL - ECPv6.15.17.1//NONSGML v1.0//EN
CALSCALE:GREGORIAN
METHOD:PUBLISH
X-WR-CALNAME:Chambre des salariés - CSL
X-ORIGINAL-URL:https://www.csl.lu/fr/
X-WR-CALDESC:Évènements pour Chambre des salariés - CSL
REFRESH-INTERVAL;VALUE=DURATION:PT1H
X-Robots-Tag:noindex
X-PUBLISHED-TTL:PT1H
BEGIN:VTIMEZONE
TZID:Europe/Paris
BEGIN:DAYLIGHT
TZOFFSETFROM:+0100
TZOFFSETTO:+0200
TZNAME:CEST
DTSTART:20240331T010000
END:DAYLIGHT
BEGIN:STANDARD
TZOFFSETFROM:+0200
TZOFFSETTO:+0100
TZNAME:CET
DTSTART:20241027T010000
END:STANDARD
BEGIN:DAYLIGHT
TZOFFSETFROM:+0100
TZOFFSETTO:+0200
TZNAME:CEST
DTSTART:20250330T010000
END:DAYLIGHT
BEGIN:STANDARD
TZOFFSETFROM:+0200
TZOFFSETTO:+0100
TZNAME:CET
DTSTART:20251026T010000
END:STANDARD
BEGIN:DAYLIGHT
TZOFFSETFROM:+0100
TZOFFSETTO:+0200
TZNAME:CEST
DTSTART:20260329T010000
END:DAYLIGHT
BEGIN:STANDARD
TZOFFSETFROM:+0200
TZOFFSETTO:+0100
TZNAME:CET
DTSTART:20261025T010000
END:STANDARD
END:VTIMEZONE
BEGIN:VEVENT
DTSTART;TZID=Europe/Paris:20250210T121500
DTEND;TZID=Europe/Paris:20250210T134500
DTSTAMP:20260421T123202
CREATED:20241209T135805Z
LAST-MODIFIED:20250210T100917Z
UID:105311-1739189700-1739195100@www.csl.lu
SUMMARY:Atelier thématique du 10 février 2025 - Enquête « Quality of Work Index 2024 » : présentation des tendances générales et focus sur la santé mentale et la prévention des addictions chez les salariés
DESCRIPTION:La CSL vous propose ses Ateliers thématiques sur l’heure de midi\,\nouverts à tous ! \n\nDes courtes séances d’information/formation pour le grand public d’environ 1h30\,\nsur des thèmes socio-économiques et juridiques variés.\n\nLieu : Dans le bâtiment de la CSL en face des Rotondes Bonnevoie \n\nAtelier N°2 : lundi\, 10 février 2025 de 12h15 à 13h45 \nEnquête Quality of Work Index 2024 :\nprésentation des tendances générales et focus sur la santé mentale et la prévention des addictions chez les salariés \nComme chaque année les résultats de la dernière enquête sur les conditions de travail et le bien-être des salariés seront présentés et mis en contexte par rapport aux données annuelles remontant jusqu’à 2014. \nCette année\, l’accent a été mis\, avec des échelles de questions supplémentaires\, sur la santé mentale ainsi que sur un état des lieux des habitudes de consommation de substances ainsi que sur l’offre de mesures de prévention dans les entreprises. Dans ce contexte\, Mme Anna-Marie Herdtle du Centre National de Prévention des Addictions commentera également les résultats de l’enquête. \nL’atelier sera animé par un expert de la CSL et Mme Anna-Marie Herdtle (CNAPA).\nLes participants auront la possibilité de poser leurs questions directement après l’atelier. \nL’atelier est organisé en présentiel et diffusé simultanément en livestream.\nUn lunch sandwich sera offert durant l’atelier. \nLes personnes qui s’inscrivent au livestream recevront un lien d’accès par email en temps utile. \nLa participation est gratuite. L’inscription est obligatoire.
URL:https://www.csl.lu/fr/calendar-event/atelier-thematique-du-10-fevrier-2025-enquete-quality-of-work-index-2024-presentation-des-tendances-generales-et-focus-sur-la-sante-mentale-et-la-prevention-des-addict/
LOCATION:Chambre des salariés / LLLC\, 2-4\, rue Pierre Hentges | L-1726 Luxembourg\, Luxembourg
END:VEVENT
END:VCALENDAR