BEGIN:VCALENDAR
VERSION:2.0
PRODID:-//Chambre des salariés - CSL - ECPv6.15.17.1//NONSGML v1.0//EN
CALSCALE:GREGORIAN
METHOD:PUBLISH
X-WR-CALNAME:Chambre des salariés - CSL
X-ORIGINAL-URL:https://www.csl.lu/fr/
X-WR-CALDESC:Évènements pour Chambre des salariés - CSL
REFRESH-INTERVAL;VALUE=DURATION:PT1H
X-Robots-Tag:noindex
X-PUBLISHED-TTL:PT1H
BEGIN:VTIMEZONE
TZID:Europe/Paris
BEGIN:DAYLIGHT
TZOFFSETFROM:+0100
TZOFFSETTO:+0200
TZNAME:CEST
DTSTART:20210328T010000
END:DAYLIGHT
BEGIN:STANDARD
TZOFFSETFROM:+0200
TZOFFSETTO:+0100
TZNAME:CET
DTSTART:20211031T010000
END:STANDARD
BEGIN:DAYLIGHT
TZOFFSETFROM:+0100
TZOFFSETTO:+0200
TZNAME:CEST
DTSTART:20220327T010000
END:DAYLIGHT
BEGIN:STANDARD
TZOFFSETFROM:+0200
TZOFFSETTO:+0100
TZNAME:CET
DTSTART:20221030T010000
END:STANDARD
BEGIN:DAYLIGHT
TZOFFSETFROM:+0100
TZOFFSETTO:+0200
TZNAME:CEST
DTSTART:20230326T010000
END:DAYLIGHT
BEGIN:STANDARD
TZOFFSETFROM:+0200
TZOFFSETTO:+0100
TZNAME:CET
DTSTART:20231029T010000
END:STANDARD
END:VTIMEZONE
BEGIN:VEVENT
DTSTART;TZID=Europe/Paris:20221019T121500
DTEND;TZID=Europe/Paris:20221019T134500
DTSTAMP:20260421T195022
CREATED:20220810T124415Z
LAST-MODIFIED:20221014T115705Z
UID:64153-1666181700-1666187100@www.csl.lu
SUMMARY:Atelier thématique du 19 octobre 2022 : La qualification de « cadre supérieur » : revalorisation professionnelle ou cadeau empoisonné ?
DESCRIPTION:La CSL vous propose ses Ateliers thématiques sur l’heure de midi\,\nouverts à tous !\n\nDes courtes séances d’information/formation pour le grand public d’environ 1h30\,\nsur des thèmes socio-économiques et juridiques variés.\n\nLieux : Dans le bâtiment de la CSL en face des Rotondes à Bonnevoie \n2e atelier le 19/10/2022 de 12h15 à 13h45\nThème : « La qualification de « cadre supérieur » : revalorisation professionnelle ou cadeau empoisonné ? »\nL’atelier sera animé par un/une juriste de la CSL. \nLes participants auront la possibilité de poser leurs questions direcemtement après l’atelier. \nL’atelier est organisé en présentiel. \nLa participation est gratuite. L’inscription est obligatoire jusqu’au vendredi 14 octobre 2022 (places limitées). \nUn lunch sandwich est offert à partir de 11h45. \n\nProchains ateliers thématiques : \n17/11/2022\nLes inégalités dans un pays riche ? Ou l’évolution des inégalités au Luxembourg – Inscription\n09/12/2022\nLes grands équilibres budgétaires et fiscaux – Inscription
URL:https://www.csl.lu/fr/calendar-event/atelier-thematique-du-19-octobre-2022-la-qualification-de-cadre-superieur-revalorisation-professionnelle-ou-cadeau-empoisonne/
LOCATION:Chambre des salariés / LLLC\, 2-4\, rue Pierre Hentges | L-1726 Luxembourg\, Luxembourg
END:VEVENT
END:VCALENDAR