BEGIN:VCALENDAR
VERSION:2.0
PRODID:-//Chambre des salariés - CSL - ECPv6.15.17.1//NONSGML v1.0//EN
CALSCALE:GREGORIAN
METHOD:PUBLISH
X-WR-CALNAME:Chambre des salariés - CSL
X-ORIGINAL-URL:https://www.csl.lu/fr/
X-WR-CALDESC:Évènements pour Chambre des salariés - CSL
REFRESH-INTERVAL;VALUE=DURATION:PT1H
X-Robots-Tag:noindex
X-PUBLISHED-TTL:PT1H
BEGIN:VTIMEZONE
TZID:Europe/Paris
BEGIN:DAYLIGHT
TZOFFSETFROM:+0100
TZOFFSETTO:+0200
TZNAME:CEST
DTSTART:20220327T010000
END:DAYLIGHT
BEGIN:STANDARD
TZOFFSETFROM:+0200
TZOFFSETTO:+0100
TZNAME:CET
DTSTART:20221030T010000
END:STANDARD
BEGIN:DAYLIGHT
TZOFFSETFROM:+0100
TZOFFSETTO:+0200
TZNAME:CEST
DTSTART:20230326T010000
END:DAYLIGHT
BEGIN:STANDARD
TZOFFSETFROM:+0200
TZOFFSETTO:+0100
TZNAME:CET
DTSTART:20231029T010000
END:STANDARD
BEGIN:DAYLIGHT
TZOFFSETFROM:+0100
TZOFFSETTO:+0200
TZNAME:CEST
DTSTART:20240331T010000
END:DAYLIGHT
BEGIN:STANDARD
TZOFFSETFROM:+0200
TZOFFSETTO:+0100
TZNAME:CET
DTSTART:20241027T010000
END:STANDARD
END:VTIMEZONE
BEGIN:VEVENT
DTSTART;TZID=Europe/Paris:20230322T121500
DTEND;TZID=Europe/Paris:20230322T134500
DTSTAMP:20260421T130750
CREATED:20230220T130107Z
LAST-MODIFIED:20230314T094638Z
UID:72420-1679487300-1679492700@www.csl.lu
SUMMARY:Atelier thématique du 22 mars 2023 : Les congés et aides à la formation continue au Luxembourg – un aperçu des principaux dispositifs !
DESCRIPTION:La CSL vous propose ses ateliers thématiques sur l’heure de midi\,\nouverts à tous !\n\nDes courtes séances d’information/formation pour le grand public d’environ 1h30\,\nsur des thèmes socio-économiques et juridiques variés.\n\nLieux : dans le bâtiment de la CSL en face des Rotondes à Bonnevoie. \nAtelier N°3 le 22 mars 2023 de 12h15 à 13h45\nThème : « Les congés et aides à la formation continue au Luxembourg –\nun aperçu des principaux dispositifs ! »\nCOMPLET \nL’atelier sera animé par un/une expert(e) de la CSL. \nLes participants auront la possibilité de poser leurs questions. \nL’atelier est organisé en présentiel. La participation est gratuite. L’inscription est obligatoire (places limitées). \nUn lunch sandwich sera offert durant l’atelier.
URL:https://www.csl.lu/fr/calendar-event/atelier-thematique-du-22-mars-2023-les-conges-et-aides-a-la-formation-continue-au-luxembourg-un-apercu-des-principaux-dispositifs/
LOCATION:Chambre des salariés / LLLC\, 2-4\, rue Pierre Hentges | L-1726 Luxembourg\, Luxembourg
END:VEVENT
END:VCALENDAR