BEGIN:VCALENDAR
VERSION:2.0
PRODID:-//Chambre des salariés - CSL - ECPv6.15.17.1//NONSGML v1.0//EN
CALSCALE:GREGORIAN
METHOD:PUBLISH
X-WR-CALNAME:Chambre des salariés - CSL
X-ORIGINAL-URL:https://www.csl.lu/fr/
X-WR-CALDESC:Évènements pour Chambre des salariés - CSL
REFRESH-INTERVAL;VALUE=DURATION:PT1H
X-Robots-Tag:noindex
X-PUBLISHED-TTL:PT1H
BEGIN:VTIMEZONE
TZID:Europe/Paris
BEGIN:DAYLIGHT
TZOFFSETFROM:+0100
TZOFFSETTO:+0200
TZNAME:CEST
DTSTART:20240331T010000
END:DAYLIGHT
BEGIN:STANDARD
TZOFFSETFROM:+0200
TZOFFSETTO:+0100
TZNAME:CET
DTSTART:20241027T010000
END:STANDARD
BEGIN:DAYLIGHT
TZOFFSETFROM:+0100
TZOFFSETTO:+0200
TZNAME:CEST
DTSTART:20250330T010000
END:DAYLIGHT
BEGIN:STANDARD
TZOFFSETFROM:+0200
TZOFFSETTO:+0100
TZNAME:CET
DTSTART:20251026T010000
END:STANDARD
BEGIN:DAYLIGHT
TZOFFSETFROM:+0100
TZOFFSETTO:+0200
TZNAME:CEST
DTSTART:20260329T010000
END:DAYLIGHT
BEGIN:STANDARD
TZOFFSETFROM:+0200
TZOFFSETTO:+0100
TZNAME:CET
DTSTART:20261025T010000
END:STANDARD
END:VTIMEZONE
BEGIN:VEVENT
DTSTART;TZID=Europe/Paris:20250926T121500
DTEND;TZID=Europe/Paris:20250926T134500
DTSTAMP:20260422T132606
CREATED:20250401T092632Z
LAST-MODIFIED:20250908T090305Z
UID:111775-1758888900-1758894300@www.csl.lu
SUMMARY:Atelier thématique du 26 septembre 2025 - Réforme des pensions ? Débats\, perspectives et alternatives.
DESCRIPTION:La CSL vous propose ses Ateliers thématiques sur l’heure de midi\,\nouverts à tous ! \nDes courtes séances d’information/formation pour le grand public d’environ 1h30\,\nsur des thèmes socio-économiques et juridiques variés. \nLieu : Dans le bâtiment de la CSL en face des Rotondes Bonnevoie \n\nAtelier N°7 : vendredi\, 26 septembre 2025 de 12h15 à 13h45 \nRéforme des pensions ? Débats\, perspectives et alternatives. \nLa réforme des pensions domine le débat public. Quelles sont les pistes proposées par le Gouvernement ? Quels impacts ont-elles sur les salariés ? \nDans le cadre d’une réforme qui s’annonce\, les idées de réforme ont été mises en avant par le Gouvernement\, dont certaines détériorations du système de pension qui sont parfois présentées comme quasiment inévitables. Cependant\, une analyse plus approfondie révèle que des alternatives à ces propositions existent bel et bien\, même si elles sont souvent passées sous silence. \nCet atelier thématique passera en revue les propositions formulées concernant la réforme des pensions\, en les remettant en contexte afin de comprendre leur impact et les alternatives possibles. \nN’hésitez pas à vous inscrire pour mieux comprendre les enjeux liés aux pensions\, car une éventuelle réforme nous concerne tous – qu’on soit retraité actuel ou futur ! \n  \nLes participants auront la possibilité de poser leurs questions directement après l’atelier. \nL’atelier est organisé en présentiel et diffusé simultanément en livestream.\nUn lunch sandwich sera offert durant l’atelier. \nLes personnes qui s’inscrivent au livestream recevront un lien d’accès par email en temps utile. \nLa participation est gratuite. L’inscription est obligatoire.
URL:https://www.csl.lu/fr/calendar-event/atelier-thematique-du-26-septembre-2025-reforme-des-pensions-debats-perspectives-et-alternatives/
LOCATION:Chambre des salariés / LLLC\, 2-4\, rue Pierre Hentges | L-1726 Luxembourg\, Luxembourg
END:VEVENT
END:VCALENDAR