BEGIN:VCALENDAR
VERSION:2.0
PRODID:-//Chambre des salariés - CSL - ECPv6.15.17.1//NONSGML v1.0//EN
CALSCALE:GREGORIAN
METHOD:PUBLISH
X-WR-CALNAME:Chambre des salariés - CSL
X-ORIGINAL-URL:https://www.csl.lu/fr/
X-WR-CALDESC:Évènements pour Chambre des salariés - CSL
REFRESH-INTERVAL;VALUE=DURATION:PT1H
X-Robots-Tag:noindex
X-PUBLISHED-TTL:PT1H
BEGIN:VTIMEZONE
TZID:Europe/Paris
BEGIN:DAYLIGHT
TZOFFSETFROM:+0100
TZOFFSETTO:+0200
TZNAME:CEST
DTSTART:20240331T010000
END:DAYLIGHT
BEGIN:STANDARD
TZOFFSETFROM:+0200
TZOFFSETTO:+0100
TZNAME:CET
DTSTART:20241027T010000
END:STANDARD
BEGIN:DAYLIGHT
TZOFFSETFROM:+0100
TZOFFSETTO:+0200
TZNAME:CEST
DTSTART:20250330T010000
END:DAYLIGHT
BEGIN:STANDARD
TZOFFSETFROM:+0200
TZOFFSETTO:+0100
TZNAME:CET
DTSTART:20251026T010000
END:STANDARD
BEGIN:DAYLIGHT
TZOFFSETFROM:+0100
TZOFFSETTO:+0200
TZNAME:CEST
DTSTART:20260329T010000
END:DAYLIGHT
BEGIN:STANDARD
TZOFFSETFROM:+0200
TZOFFSETTO:+0100
TZNAME:CET
DTSTART:20261025T010000
END:STANDARD
END:VTIMEZONE
BEGIN:VEVENT
DTSTART;TZID=Europe/Paris:20250211T183000
DTEND;TZID=Europe/Paris:20250211T200000
DTSTAMP:20260422T081033
CREATED:20241210T135224Z
LAST-MODIFIED:20250110T135140Z
UID:106008-1739298600-1739304000@www.csl.lu
SUMMARY:Conférence du 11 février 2025 : Les défis de la santé et de la sécurité au travail à l'heure du changement climatique
DESCRIPTION:La Chambre des salariés a le plaisir de vous inviter à la conférence \nLes défis de la santé et de la sécurité au travail à l’heure du changement climatique\nDate : Mardi\, 11 février 2025 à 18h30 \nLieu : Chambre des salariés\, 2-4 rue Pierre Hentges\, L-1726 Luxembourg \n  \navec Dre Manal Azzi qui est actuellement chef d’équipe sur la politique de sécurité et de santé au travail (SST) à l’Organisation internationale du travail (OIT)\, basée à Genève\, en Suisse. \n  \nThème de la conférence : \nLe rythme rapide du changement climatique pose des défis majeurs au monde du travail. S’appuyant sur les deux rapports les plus récents de l’OIT – La chaleur au travail : Implications pour la sécurité et la santé et Assurer la sécurité et la santé au travail à l’heure du changement climatique – cette discussion mettra en lumière l’impact grave de la chaleur excessive\, des événements météorologiques extrêmes\, de la pollution de l’air\, des rayonnements UV\, des maladies vectorielles et de l’augmentation accrue des produits agrochimiques sur les travailleurs dans le monde entier. \nLa Dre Manal Azzi examinera les risques pour la santé des travailleurs\, notamment les maladies liées à la chaleur\, les maladies chroniques\, les accidents du travail\, les impacts sur la santé mentale et la baisse de productivité. Les groupes vulnérables\, tels que les travailleurs en extérieur\, les travailleurs informels\, les femmes enceintes et ceux évoluant dans des environnements mal ventilés\, sont particulièrement exposés. \nLa discussion portera sur les réponses politiques et les actions au niveau des lieux de travail mises en œuvre à l’échelle mondiale\, telles que les évaluations participatives des risques\, les seuils d’exposition à la chaleur\, les stratégies d’hydratation\, les zones de repos ombragées et la sensibilisation à la prévention du stress thermique. \nL’importance de mettre à jour les lois en matière de SST pour répondre aux risques climatiques et de reconnaître les maladies liées à la chaleur comme maladies professionnelles sera soulignée. La Dre Azzi explorera la nécessité d’efforts coordonnés aux niveaux national et local\, soutenus par le dialogue social et la collaboration entre les gouvernements\, les employeurs et les travailleurs. \n  \nLa langue utilisée lors de la conférence est l’anglais. Une traduction en français sera assurée.\nThe conference language is English. \nPlus d’informations
URL:https://www.csl.lu/fr/calendar-event/conference-du-11-fevrier-2025-les-defis-de-la-sante-et-de-la-securite-au-travail-a-lheure-du-changement-climatique/
LOCATION:Chambre des salariés / LLLC\, 2-4\, rue Pierre Hentges | L-1726 Luxembourg\, Luxembourg
END:VEVENT
END:VCALENDAR