BEGIN:VCALENDAR
VERSION:2.0
PRODID:-//Chambre des salariés - CSL - ECPv6.15.17.1//NONSGML v1.0//EN
CALSCALE:GREGORIAN
METHOD:PUBLISH
X-WR-CALNAME:Chambre des salariés - CSL
X-ORIGINAL-URL:https://www.csl.lu/fr/
X-WR-CALDESC:Évènements pour Chambre des salariés - CSL
REFRESH-INTERVAL;VALUE=DURATION:PT1H
X-Robots-Tag:noindex
X-PUBLISHED-TTL:PT1H
BEGIN:VTIMEZONE
TZID:Europe/Paris
BEGIN:DAYLIGHT
TZOFFSETFROM:+0100
TZOFFSETTO:+0200
TZNAME:CEST
DTSTART:20250330T010000
END:DAYLIGHT
BEGIN:STANDARD
TZOFFSETFROM:+0200
TZOFFSETTO:+0100
TZNAME:CET
DTSTART:20251026T010000
END:STANDARD
BEGIN:DAYLIGHT
TZOFFSETFROM:+0100
TZOFFSETTO:+0200
TZNAME:CEST
DTSTART:20260329T010000
END:DAYLIGHT
BEGIN:STANDARD
TZOFFSETFROM:+0200
TZOFFSETTO:+0100
TZNAME:CET
DTSTART:20261025T010000
END:STANDARD
BEGIN:DAYLIGHT
TZOFFSETFROM:+0100
TZOFFSETTO:+0200
TZNAME:CEST
DTSTART:20270328T010000
END:DAYLIGHT
BEGIN:STANDARD
TZOFFSETFROM:+0200
TZOFFSETTO:+0100
TZNAME:CET
DTSTART:20271031T010000
END:STANDARD
END:VTIMEZONE
BEGIN:VEVENT
DTSTART;TZID=Europe/Paris:20260422T183000
DTEND;TZID=Europe/Paris:20260422T200000
DTSTAMP:20260421T161043
CREATED:20260401T143634Z
LAST-MODIFIED:20260414T134313Z
UID:123715-1776882600-1776888000@www.csl.lu
SUMMARY:Conférence du 22 avril 2026 : Le podcast flux : Expliquer aujourd'hui avec hier
DESCRIPTION:LE PODCAST FLUX : EXPLIQUER AUJOURD’HUI AVEC HIER\nConférence sur un passé dans l’air du temps\nDate : Mercredi\, 22 avril 2026 à 18h30 \nLieu : Chambre des salariés\, 2-4 rue Pierre Hentges\, L-1726 Luxembourg \n  \nLe 22 avril\, le Lëtzebuerger Journal tiendra une conférence autour du podcast flux. \n« flux » est le podcast du Lëtzebuerger Journal qui retrace l’histoire de l’économie luxembourgeoise en trois saisons de six épisodes. De novembre 2025 à février 2026\, le média digital a publié la première partie de la série\, qui se concentre sur l’ère de la domination de la sidérurgie au Grand-Duché\, allant de 1882 à la fin des années 1970. \nMais au-delà des aciéries de la région Minett et des banques du Kirchberg\, l’économie est présente partout. Elle nous concerne tou·te·s. C’est pourquoi le Lëtzebuerger Journal a décidé de se mettre à la recherche des histoires\, souvent encore méconnues\, qui ont fait notre petit pays. \nLes journalistes de journal.lu\, mené·e·s par Sherley De Deurwaerder à l’animation\, ont parlé à ceux·celles qui ont contribué à façonner cette évolution – et qui continuent à le faire à ce jour. Des témoins historiques\, qui racontent l’histoire de leur propre perspective\, des historien·ne·s\, des politicien·ne·s ainsi que des figures clés de notre économie. \nEntre autres\, Jean-Claude Juncker (Premier ministre de 1995 à 2013)\, Colette Flesch (ministre de l’Économie de 1980 à 1984)\, Michel Wurth (président du Conseil d’administration d’ArcelorMittal Luxembourg)\, Guy Castegnaro (associé gérant de l’étude CASTEGNARO et fils du syndicaliste John Castegnaro) et Nora Back (présidente de la Chambre des salariés) racontent un pays qui ne cesse de se réinventer. \nQuand le passé se reflète dans le présent\nLa prospérité du Luxembourg repose sur son industrie. Elle a cependant aussi été portée par les épaules des travailleur·euse·s venant du Sud\, du Nord\, d’Allemagne\, mais surtout d’Italie. En plus de leur main d’œuvre\, les Italien·ne·s ont apporté un vent nouveau et un « esprit de grève ». \nL’industrie a engendré une ségrégation de la population\, entre bourgeoisie industrielle et travailleur·euse·s. Les inégalités étaient criantes entre celles et ceux qui faisaient de la politique et façonnaient le pays pendant que les autres luttaient. Ces dernier·ère·s avaient faim\, travaillaient trop\, habitaient dans de mauvaises conditions – sur des sites construits provisoirement autour des usines. \nUn bon nombre d’acquis sociaux dont nous disposons aujourd’hui – les journées de huit heures\, les conventions collectives\, les chambres professionnelles\, l’index et plus encore – ont été obtenus parce que de plus en plus de travailleur·euse·s se sont regroupé·e·s dans le but de se battre pour leurs droits après la Première Guerre mondiale. Cela\, majoritairement à travers des manifestations calmes et pacifistes qui visaient les conditions de vie et de travail catastrophiques\, tandis que les syndicats ne cessaient de grandir. \nIl a fallu une longue évolution pour parvenir à la tripartite et au dialogue social que nous connaissons. Les premières conventions collectives ont vu le jour à travers le Conseil national du travail\, créé dans les années 1930 et qui était déjà une plateforme de médiation entre patronat et syndicats. La Conférence sur le travail a pris le relais après la Deuxième Guerre mondiale et c’est dans les années 1960 que les trois parties – État\, syndicats et patronat – se sont réunies au sein du Conseil économique et social. \nLa tripartite a été ancrée dans la loi en 1977 avec pour but de faire traverser\, de la manière la plus stable et socialement acceptable possible\, la pire crise économique que le pays ait dû affronter dans son histoire moderne\, tant pour l’Arbed que pour la population et les travailleur·euse·s. \nIl fallait prendre des mesures pour veiller\, d’une part\, à ce que l’Arbed\, en tant que pilier économique et entreprise à la tête d’un monopole\, ne fasse pas faillite – « Wann d’Arbed houscht\, ass d’Land krank » (quand l’Arbed tousse\, le pays est malade) – et\, d’autre part\, à ce que les travailleur·euse·s ne se retrouvent pas à la rue\, mais restent employé·e·s et continuent à percevoir leur salaire. Une chose que le Luxembourg a d’ailleurs réussi à accomplir au fil du temps. Aucun pays européen n’est parvenu à maintenir des taux de chômage aussi bas. \nL’Arbed n’existe plus aujourd’hui sous cette forme – elle est entre-temps devenue ArcelorMittal – et les hauts fourneaux\, qui déterminaient autrefois le quotidien de toute une communauté\, ne sont plus en activité. Aujourd’hui\, c’est le secteur financier qui représente presque exactement le même poids dans le PIB que l’industrie sidérurgique à son apogée… Et les inégalités d’autrefois restent\, eux aussi\, toujours d’actualité. \nUne conférence sur un passé dans l’air du temps\nEn trois parties\, la conférence se penchera sur les parallèles entre les récits du podcast et la situation actuelle. \n\nLa naissance des conflits sociaux\nL’industrialisation\, l’émergence d’une société de classes\, la migration et la première crise du logement – avec un regard porté sur les enjeux actuels\, où les inégalités persistent.\nLe conflit comme moteur de progrès\nLes luttes sociales\, le droit du travail\, les acquis sociaux et leurs échos aujourd’hui\, notamment autour des débats sur le temps de travail et la précarité.\nLe modèle luxembourgeois et la tripartite\nLa gestion des crises\, la culture du compromis et les évolutions récentes.\n\nIntervenants\n\nNora Back\, présidente de la Chambre des salariés – mot de bienvenue\nGuy Castegnaro est avocat spécialisé en droit du travail et a l’expérience pratique du cadre légal.\nDr. Estelle Berthereau est chercheuse à l’université du Luxembourg avec pour focus l’histoire des inégalités sociales et des acquis sociaux.\nSherley De Deurwaerder est journaliste au Lëtzebuerger Journal et la voix de flux.\nMaxime Toussaint\, Head of Podcast du Lëtzebuerger Journal et producteur de flux\, assure la modération de la soirée.\n\n  \nLa langue utilisée lors de la conférence est le luxembourgeois. Une traduction en français sera assurée. \nL’inscription est gratuite mais obligatoire. Merci de vous inscrire jusqu’au 17 avril 2026. \nInvitation
URL:https://www.csl.lu/fr/calendar-event/conference-du-22-avril-2026-expliquer-aujourdhui-avec-hier/
LOCATION:Chambre des salariés / LLLC\, 2-4\, rue Pierre Hentges | L-1726 Luxembourg\, Luxembourg
END:VEVENT
END:VCALENDAR