BEGIN:VCALENDAR
VERSION:2.0
PRODID:-//Chambre des salariés - CSL - ECPv6.15.17.1//NONSGML v1.0//EN
CALSCALE:GREGORIAN
METHOD:PUBLISH
X-WR-CALNAME:Chambre des salariés - CSL
X-ORIGINAL-URL:https://www.csl.lu/fr/
X-WR-CALDESC:Évènements pour Chambre des salariés - CSL
REFRESH-INTERVAL;VALUE=DURATION:PT1H
X-Robots-Tag:noindex
X-PUBLISHED-TTL:PT1H
BEGIN:VTIMEZONE
TZID:Europe/Paris
BEGIN:DAYLIGHT
TZOFFSETFROM:+0100
TZOFFSETTO:+0200
TZNAME:CEST
DTSTART:20240331T010000
END:DAYLIGHT
BEGIN:STANDARD
TZOFFSETFROM:+0200
TZOFFSETTO:+0100
TZNAME:CET
DTSTART:20241027T010000
END:STANDARD
BEGIN:DAYLIGHT
TZOFFSETFROM:+0100
TZOFFSETTO:+0200
TZNAME:CEST
DTSTART:20250330T010000
END:DAYLIGHT
BEGIN:STANDARD
TZOFFSETFROM:+0200
TZOFFSETTO:+0100
TZNAME:CET
DTSTART:20251026T010000
END:STANDARD
BEGIN:DAYLIGHT
TZOFFSETFROM:+0100
TZOFFSETTO:+0200
TZNAME:CEST
DTSTART:20260329T010000
END:DAYLIGHT
BEGIN:STANDARD
TZOFFSETFROM:+0200
TZOFFSETTO:+0100
TZNAME:CET
DTSTART:20261025T010000
END:STANDARD
END:VTIMEZONE
BEGIN:VEVENT
DTSTART;TZID=Europe/Paris:20250327T180000
DTEND;TZID=Europe/Paris:20250327T190000
DTSTAMP:20260422T173631
CREATED:20250305T074632Z
LAST-MODIFIED:20250305T074632Z
UID:110335-1743098400-1743102000@www.csl.lu
SUMMARY:Conférence du 27 mars 2025 - L’économie du burnout : souffrance au travail et santé mentale
DESCRIPTION:La Chambre des salariés a le plaisir de vous inviter à la conférence \nL’économie du burnout : souffrance au travail et santé mentale\nDate : Jeudi\, 27 mars 2025 à 18h00 \nLieu : Chambre des salariés\, 2-4 rue Pierre Hentges\, L-1726 Luxembourg \n  \navec Olivier De Schutter qui enseigne à l’UCLouvain et à Sciences Po à Paris. Il est depuis 2020 le rapporteur spécial de l’ONU sur les droits de l’homme et l’extrême pauvreté\, et il est membre\, depuis 2025\, du Comité européen des droits sociaux. \n  \nThème de la conférence : \nLa redéfinition post-fordiste du travail amène une précarisation accrue\, des horaires variables\, et une accélération des rythmes de travail. Les impacts sur la santé mentale des travailleurs et travailleuses commence à être mieux compris. \nUn cercle vicieux s’amorce\, dans lequel des conditions de travail difficiles amènent la dépression et l’anxiété\, ce qui en retour fragilise les victimes\, qui seront moins productives et verront leur situation professionnelle se dégrader. \nLes inégalités sociales et les menaces que font peser la mondialisation et l’automatisation des tâches aggravent encore le risque professionnel. Nous chercherons à proposer un diagnostic et nous explorerons des pistes de solution. \nNous nous intéresserons à la notion de « mérite » dans la grille des salaires\, ainsi qu’à l’impact des formes modernes de management qui visent à renforcer l’autonomie des travailleurs et travailleuses\, tout en recourant à une gouvernance par les nombres. Et nous explorerons le potentiel de la démocratisation du travail et de l’économie sociale et solidaire\, comme alternatives à encourager. \nLa langue utilisée lors de la conférence est le français. Une traduction en allemand sera assurée. \nDie Konferenzsprache ist Französisch. Eine Übersetzung ins Deutsche ist gewährleistet. \nPlus d’informations
URL:https://www.csl.lu/fr/calendar-event/conference-du-27-mars-2025-leconomie-du-burnout-souffrance-au-travail-et-sante-mentale/
LOCATION:Chambre des salariés / LLLC\, 2-4\, rue Pierre Hentges | L-1726 Luxembourg\, Luxembourg
END:VEVENT
END:VCALENDAR