BEGIN:VCALENDAR
VERSION:2.0
PRODID:-//Chambre des salariés - CSL - ECPv6.15.17.1//NONSGML v1.0//EN
CALSCALE:GREGORIAN
METHOD:PUBLISH
X-WR-CALNAME:Chambre des salariés - CSL
X-ORIGINAL-URL:https://www.csl.lu/fr/
X-WR-CALDESC:Évènements pour Chambre des salariés - CSL
REFRESH-INTERVAL;VALUE=DURATION:PT1H
X-Robots-Tag:noindex
X-PUBLISHED-TTL:PT1H
BEGIN:VTIMEZONE
TZID:Europe/Paris
BEGIN:DAYLIGHT
TZOFFSETFROM:+0100
TZOFFSETTO:+0200
TZNAME:CEST
DTSTART:20240331T010000
END:DAYLIGHT
BEGIN:STANDARD
TZOFFSETFROM:+0200
TZOFFSETTO:+0100
TZNAME:CET
DTSTART:20241027T010000
END:STANDARD
BEGIN:DAYLIGHT
TZOFFSETFROM:+0100
TZOFFSETTO:+0200
TZNAME:CEST
DTSTART:20250330T010000
END:DAYLIGHT
BEGIN:STANDARD
TZOFFSETFROM:+0200
TZOFFSETTO:+0100
TZNAME:CET
DTSTART:20251026T010000
END:STANDARD
BEGIN:DAYLIGHT
TZOFFSETFROM:+0100
TZOFFSETTO:+0200
TZNAME:CEST
DTSTART:20260329T010000
END:DAYLIGHT
BEGIN:STANDARD
TZOFFSETFROM:+0200
TZOFFSETTO:+0100
TZNAME:CET
DTSTART:20261025T010000
END:STANDARD
END:VTIMEZONE
BEGIN:VEVENT
DTSTART;TZID=Europe/Paris:20250206T170000
DTEND;TZID=Europe/Paris:20250206T190000
DTSTAMP:20260422T173633
CREATED:20250124T142145Z
LAST-MODIFIED:20250124T153732Z
UID:109271-1738861200-1738868400@www.csl.lu
SUMMARY:Séance d'information du 6 février 2025 : Système de pension - réforme et enjeux
DESCRIPTION:Système de pension – réforme et enjeux\nDate : jeudi\, 6 février 2025 à 17h00 \nLieu : Chambre des salariés\, 2-4 rue Pierre Hentges\, L-1726 Luxembourg \nLa séance d’information propose une présentation du système de pension actuel\, notamment au vu des discussions actuelles sur une éventuelle réforme des pensions. Plusieurs aspects clés seront abordés\, notamment : \n\nUne explication du fonctionnement du régime général d’assurance pension (conditions d’éligibilité\, calcul\, etc.) ;\nUne analyse de données objectives sur le système actuel ;\nUn retour sur les principaux changements introduits lors de la réforme des pensions de 2012 ;\nUne mise en perspective des projections à long terme.\n\nLa présentation sera suivie d’un temps d’échange interactif\, offrant l’opportunité de poser des questions et de discuter des différents aspects du sujet avec les spécialistes présents. \nLa séance est organisée en présentiel et diffusé simultanément en livestream. \nLa séance d’information sera animée par des experts de la CSL. \n 
URL:https://www.csl.lu/fr/calendar-event/seance-dinformation-du-6-fevrier-2025-systeme-de-pension-reforme-et-enjeux/
LOCATION:Chambre des salariés / LLLC\, 2-4\, rue Pierre Hentges | L-1726 Luxembourg\, Luxembourg
END:VEVENT
END:VCALENDAR