BEGIN:VCALENDAR
VERSION:2.0
PRODID:-//Chambre des salariés - CSL - ECPv6.15.17.1//NONSGML v1.0//EN
CALSCALE:GREGORIAN
METHOD:PUBLISH
X-WR-CALNAME:Chambre des salariés - CSL
X-ORIGINAL-URL:https://www.csl.lu/fr/
X-WR-CALDESC:Évènements pour Chambre des salariés - CSL
REFRESH-INTERVAL;VALUE=DURATION:PT1H
X-Robots-Tag:noindex
X-PUBLISHED-TTL:PT1H
BEGIN:VTIMEZONE
TZID:Europe/Paris
BEGIN:DAYLIGHT
TZOFFSETFROM:+0100
TZOFFSETTO:+0200
TZNAME:CEST
DTSTART:20230326T010000
END:DAYLIGHT
BEGIN:STANDARD
TZOFFSETFROM:+0200
TZOFFSETTO:+0100
TZNAME:CET
DTSTART:20231029T010000
END:STANDARD
BEGIN:DAYLIGHT
TZOFFSETFROM:+0100
TZOFFSETTO:+0200
TZNAME:CEST
DTSTART:20240331T010000
END:DAYLIGHT
BEGIN:STANDARD
TZOFFSETFROM:+0200
TZOFFSETTO:+0100
TZNAME:CET
DTSTART:20241027T010000
END:STANDARD
BEGIN:DAYLIGHT
TZOFFSETFROM:+0100
TZOFFSETTO:+0200
TZNAME:CEST
DTSTART:20250330T010000
END:DAYLIGHT
BEGIN:STANDARD
TZOFFSETFROM:+0200
TZOFFSETTO:+0100
TZNAME:CET
DTSTART:20251026T010000
END:STANDARD
END:VTIMEZONE
BEGIN:VEVENT
DTSTART;TZID=Europe/Paris:20241202T183000
DTEND;TZID=Europe/Paris:20241202T200000
DTSTAMP:20260421T130754
CREATED:20241029T151039Z
LAST-MODIFIED:20241119T150730Z
UID:103871-1733164200-1733169600@www.csl.lu
SUMMARY:Table ronde du 2 décembre 2024 - Violence domestique : analyse\, prévention\, témoignages et soutien aux victimes au Luxembourg
DESCRIPTION:  \nLa Chambre des salariés et le Ministère de l‘Égalité des genres et de la Diversité ont le plaisir de vous inviter à une table ronde \nViolence domestique : analyse\, prévention\, témoignages et soutien aux victimes au Luxembourg\nDate : lundi\, 2 décembre 2024 à 18h30 \nLieu : Chambre des salariés 2-4 rue Pierre Hentges\, L-1726 Luxembourg \n  \nLes thèmes suivants vont être développés : \n\nÉtat des lieux des violences domestiques au Luxembourg\nPrésentation des mesures mises en place par le Ministère de l‘Égalité des genres et de la Diversité\nRappel et explication de la loi en vigueur\nIntroduction et fonctionnement des foyers pour femmes en détresse\nTémoignages de cas de victimes\n\nLa table ronde est en luxembourgeois. Une traduction en français est assurée. \n\nLes intervenant(e)s de la table ronde : \nCHRISTOPHER WITRY \nAttaché en charge de la lutte contre les discriminations au Ministère de l’Égalité des genres et de la Diversité \nMARTINE MIRKES\nJuriste et Conseillère de direction à la Chambre des salariés (CSL) \nANDRÉE BIRNBAUM\nDirectrice générale de Femmes en détresse asbl \nANA PINTO\nPrésidente et Membre du conseil d’administration de la Voix des Survivant(e)s asbl \nANNETTE MICHELS\nSecrétaire et Membre du conseil d’administration de la Voix des Survivant(e)s asbl \nERIC LAMHÈNE | Modérateur de la soirée\nRéalisateur du film « Hors d’haleine » \n\nÀ propos du film : \n« Hors d’haleine » est un drame émouvant et centré sur les personnages\, se déroulant dans le monde secret d’un refuge pour femmes. Il raconte l’histoire d’Emma\, emmenée en pleine nuit\, couverte de bleus et enceinte de façon inattendue. Alors qu’elle lutte avec sa grossesse et ses liens émotionnels avec son mari Marc\, Emma redécouvre des facettes perdues d’elle-même grâce à la camaraderie improbable et aux conflits avec les femmes et les enfants du refuge. Les traumatismes individuels s’entrelacent et malgré leurs différences\, une sœur fragile émerge alors qu’elles se poussent mutuellement à se battre pour leur dignité et leur indépendance. \nVous trouverez plus d’informations sur le film ainsi que sa bande d’annonce ICI. \n \nSortie du film dans tous les cinémas du pays : le 13.11.2024 \n\nEn sus de la table ronde\, la Chambre des salariés accueille du 11 novembre 2024 au 21 janvier 2025\, deux expositions dans le cadre de l’Orange Week 2024 : \n  \n\nExposition « Ma vie en sécurité »\n\nPar les résidents du Fraenhaus et de la MaCoU – Maison Communautaire d’Urgence– Femmes en Détresse asbl. \nCette exposition dévoile les œuvres poignantes de résidents victimes de violence domestique. À travers ces créations\, découvrez un parcours de résilience fait de peur\, de colère\, de solidarité\, d’espoir et de renouveau. \n\nExposition « Derrière les chiffres »\n\nDe Fanny Vella – réalisée par la Maison Sichem de la Fondation Maison de la Porte Ouverte \nEn collaboration avec le collectif « Nous Toutes Lyon »\, Fanny Vella a réalisé des portraits de femmes en noir et blanc\, victimes de féminicides. La série s’appelle « Derrière les chiffres ». Ses portraits rappellent que derrière les chiffres\, il y a des femmes\, des filles\, des amies. Et qu’elles avaient une vie. Cette exposition est un hommage à toutes ces femmes. \n  \nProgramme et plus d’informations
URL:https://www.csl.lu/fr/calendar-event/table-ronde-du-2-decembre-2024-violence-domestique-analyse-prevention-temoignages-et-soutien-aux-victimes-au-luxembourg/
LOCATION:Chambre des salariés / LLLC\, 2-4\, rue Pierre Hentges | L-1726 Luxembourg\, Luxembourg
END:VEVENT
END:VCALENDAR